BEGIN:VCALENDAR
VERSION:2.0
PRODID:-//Αδελφοί Καραβιώτη - ECPv6.0.12//NONSGML v1.0//EN
CALSCALE:GREGORIAN
METHOD:PUBLISH
X-WR-CALNAME:Αδελφοί Καραβιώτη
X-ORIGINAL-URL:https://karaviotismusic.gr
X-WR-CALDESC:Αδελφοί Καραβιώτη - Εκδηλώσεις
REFRESH-INTERVAL;VALUE=DURATION:PT1H
X-Robots-Tag:noindex
X-PUBLISHED-TTL:PT1H
BEGIN:VTIMEZONE
TZID:Europe/Athens
BEGIN:DAYLIGHT
TZOFFSETFROM:+0200
TZOFFSETTO:+0300
TZNAME:EEST
DTSTART:20260329T010000
END:DAYLIGHT
BEGIN:STANDARD
TZOFFSETFROM:+0300
TZOFFSETTO:+0200
TZNAME:EET
DTSTART:20261025T010000
END:STANDARD
END:VTIMEZONE
BEGIN:VEVENT
DTSTART;TZID=Europe/Athens:20260308T130000
DTEND;TZID=Europe/Athens:20260308T180000
DTSTAMP:20260424T005405
CREATED:20260226T022237Z
LAST-MODIFIED:20260226T022237Z
UID:2161-1772974800-1772992800@karaviotismusic.gr
SUMMARY:«Γιορτή της Γυναίκας»
DESCRIPTION:«Γιορτή της Γυναίκας» \nΚυριακή 8 Μαρτίου 2026 | Ώρα έναρξης: 13:00\nElectra Palace Athens ★★★★★\nΝαυάρχου Νικοδήμου 18–20\, Πλάκα \nΗ Γυναίκα τιμάται και γιορτάζεται σε μια ξεχωριστή μεσημεριανή εκδήλωση υψηλής αισθητικής\, μουσικής και γαστρονομίας\, στην καρδιά της Αθήνας. \nΟι αγαπημένοι τροβαδούροι Σπύρος & Μάκης Καραβιώτης\, μαζί με την ορχήστρα τους\, παρουσιάζουν την «Γιορτή της Γυναίκας» την Κυριακή 8 Μαρτίου και ώρα 13:00\, σε ένα από τα πλέον πολυτελή ξενοδοχεία της πρωτεύουσας\, το Electra Palace Athens ★★★★★ στην Πλάκα. \nΤο μουσικό πρόγραμμα είναι αφιερωμένο στη διαχρονική γυναικεία παρουσία στην τέχνη\, τον έρωτα και τη ζωή. Μελωδίες γεμάτες ευαισθησία\, ρυθμό και λυρισμό δημιουργούν μια ατμόσφαιρα γιορτής και συγκίνησης\, μετατρέποντας το μεσημέρι της Κυριακής σε μια εμπειρία πολιτισμού και χαράς. \nΗ εκδήλωση πραγματοποιείται σε διάταξη ροτόντες\, προσφέροντας άνεση\, κομψότητα και υψηλού επιπέδου φιλοξενία\, όπως αρμόζει σε μια ημέρα αφιερωμένη στη Γυναίκα. \nΜενού Εκδήλωσης \nΗ μουσική εμπειρία συνοδεύεται από πλήρες σαρακοστιανό μενού\, ειδικά διαμορφωμένο για την περίοδο. \nΓια κάθε τραπέζι (πιατέλα 8–10 ατόμων): \n\nΦρεσκοψημένα ψωμάκια δύο ειδών & κριτσίνια\n• Ταραμοσαλάτα\, φάβα\, πατατοσαλάτα\n• Ντοματίνια με μοτσαρελίνια\n\nΓια κάθε καλεσμένο (ατομικό πιάτο): \n\nΣπανακοπιτάκι ατομικό\n• Μπιφτεκάκι λαχανικών\n• Πατάτες baby φούρνου\n• Κολοκυθοκεφτές\n• Σπρινγκ ρολ λαχανικών\n• Καλαμαράκι γεμιστό\n\nΑτομικό γλυκό: \n\nΜους σοκολάτας υγείας\n\nΠακέτο Ποτών: \n\nΛευκό κρασί «NOTOS» – Κτήμα Κανακάρης (Ροδίτης)\n• Ερυθρό κρασί «NOTOS» – Κτήμα Κανακάρης (Merlot – Μαυρούδι)\n• Εμφιαλωμένο νερό\n\nℹ Πληροφορίες Εκδήλωσης \n\nΗμερομηνία: Κυριακή 8 Μαρτίου 2026\n• Ώρα προσέλευσης: 13:00\n• Χώρος: Electra Palace Athens ★★★★★\n• Διεύθυνση: Ναυάρχου Νικοδήμου 18–20\, Πλάκα\n• Διάταξη αίθουσας: Ροτόντες των 10 ατόμων\n• Μενού: Πλήρες σαρακοστιανό με εμφιαλωμένο κρασί\n• Τιμή κατ’ άτομο: 50€\n\nΗ «Γιορτή της Γυναίκας» αποτελεί μια ολοκληρωμένη εμπειρία\, όπου η μουσική\, η γαστρονομία και η κομψότητα συνυπάρχουν αρμονικά\, σε ένα περιβάλλον υψηλής αισθητικής και πολιτισμού.
URL:https://karaviotismusic.gr/event/%ce%b3%ce%b9%ce%bf%cf%81%cf%84%ce%ae-%cf%84%ce%b7%cf%82-%ce%b3%cf%85%ce%bd%ce%b1%ce%af%ce%ba%ce%b1%cf%82-%ce%b1%ce%b4%ce%b5%ce%bb%cf%86%ce%bf%ce%af-%ce%ba%ce%b1%cf%81%ce%b1%ce%b2%ce%b9%cf%8e%cf%84/
LOCATION:Electra Palace\, Ναυάρχου Νικοδήμου 18 – 20\, Πλάκα\, Αθήνα\, Αττική\, Ελλάδα
CATEGORIES:Μεσημεριανή συνεστίαση,Συναυλίες
ATTACH;FMTTYPE=image/jpeg:https://karaviotismusic.gr/wp-content/uploads/2026/02/POSTER-FINAL-scaled.jpg
END:VEVENT
BEGIN:VEVENT
DTSTART;TZID=Europe/Athens:20260321T200000
DTEND;TZID=Europe/Athens:20260321T220000
DTSTAMP:20260424T005405
CREATED:20260226T024600Z
LAST-MODIFIED:20260226T024600Z
UID:2171-1774123200-1774130400@karaviotismusic.gr
SUMMARY:«195 χρόνια χωρίς…»
DESCRIPTION:Το Σάββατο 21 Μαρτίου 2026 και ώρα 20:00\, στην Αίθουσα Διδασκαλίας της Μουσικής Βιβλιοθήκης των Φίλων της Μουσικής\, στο Μέγαρο Μουσικής Αθηνών (Βασ. Σοφίας & Κόκκαλη)\, οι δημοφιλείς τροβαδούροι Σπύρος και Μάκης Καραβιώτης σας προσκαλούν σε ένα μοναδικό αφιέρωμα στην σπουδαία μορφή του Ιωάννη Καποδίστρια με τίτλο: \n«195 χρόνια χωρίς…» \nΠρόκειται για μια μουσική διαδρομή στη μνήμη\, την ελευθερία και τον αγώνα με τραγούδια εμπνευσμένα από την ιστορική περίοδο κατά την οποία έδρασε ο πρώτος Κυβερνήτης. \nΕιδικότερα\, θα ερμηνευθούν αποσπάσματα από το έργο του Ηλία Ανδριόπουλου\, σε ποίηση του Μάνου Ελευθερίου\, «Γράμματα στον Μακρυγιάννη»\, καθώς και από το έργο του Χρήστου Λεοντή\, «Η Καντάτα της Ελευθερίας»\, σε ποίηση του Διονυσίου Σολωμού και του Ρήγα Φεραίου. Παράλληλα\, θα παρουσιαστούν παραδοσιακά τραγούδια —δημοτικά και κλέφτικα— άρρηκτα συνδεδεμένα με την περίοδο της Ελληνικής Επανάστασης\, φωτίζοντας μουσικά το ιστορικό\, ιδεολογικό και συναισθηματικό πλαίσιο της εποχής. \nΣτο πρόγραμμα θα ακουστούν τραγούδια όπως: «Θα σε ξανάβρω στους μπαξέδες»\, «Στην Ιθάκη»\, «Ο Θούριος του Ρήγα»\, «Το χάραμα επήρα»\, «Δεύτε παίδες των Ελλήνων»\, «Κλείσαν οι στράτες του Μωριά»\, «Στ’ Αναπλιού το Παλαμίδι»\, «Να ’ταν το ’21»\, «Δέκα παλικάρια» κ.ά. \nΣυμμετέχουν οι καλλιτέχνες \nΣπύρος & Μάκης Καραβιώτης: κιθάρες – φωνές \nΠάρης Μαμμάς — κλαρινέτο \nΓρηγόρης Κακούρης — παραδοσιακό τραγούδι \nΛεωνίδας Αντύπας — βαρύτονος \nΠαναγιώτης Καριώτης — μπάσος \n  \nΤα περισσότερα τραγούδια θα ερμηνευθούν χορωδιακά\, σε εναρμονίσεις του μουσικολόγου και υποψηφίου διδάκτορος του Ε.Κ.Π.Α. Σπυρίδωνος Καραβιώτη. \nΔομή & Διάρκεια \nΗ συναυλία αποτελείται από δύο μέρη\, συνολικής διάρκειας περίπου δύο ωρών\, με ενδιάμεσο διάλειμμα δέκα λεπτών. \nΤιμές εισιτηρίων \n30€ | 25€ | 20€ | 15€ \n\nΟι θέσεις είναι αριθμημένες και θα λειτουργήσει ταξιθεσία.\n• Παρακαλείσθε να προμηθευτείτε εγκαίρως τα εισιτήριά σας\, λόγω περιορισμένου αριθμού θέσεων.\n\nΕισιτήρια: https://www.ticketservices.gr/event/mmb-195-xronia-xoris/ \nΤα αδέλφια Σπύρος και Μάκης Καραβιώτης συμπληρώνουν φέτος 33 χρόνια διαρκούς παρουσίας στο ελληνικό τραγούδι\, υποστηρίζοντας με το καλλιτεχνικό τους ήθος την πεποίθηση: \n«Τραγουδάμε για να ενώσουμε τον κόσμο\, πιστεύοντας στη θεραπευτική δύναμη της καλής μουσικής». \nΗ παρουσία σας θα δώσει ιδιαίτερη χαρά στη μουσική ομάδα των αδελφών Καραβιώτη και των συνεργατών τους\, οι οποίοι προβάλλουν με συνέπεια και σεβασμό το καλό ελληνικό τραγούδι και τη νεότερη ελληνική παράδοση.
URL:https://karaviotismusic.gr/event/195-%cf%87%cf%81%cf%8c%ce%bd%ce%b9%ce%b1-%cf%87%cf%89%cf%81%ce%af%cf%82-%cf%84%ce%bf%ce%bd-%ce%ba%cf%85%ce%b2%ce%b5%cf%81%ce%bd%ce%ae%cf%84%ce%b7-%ce%b1%ce%b4%ce%b5%ce%bb%cf%86%ce%bf%ce%af/
LOCATION:Αίθουσα Διδασκαλίας της Μουσικής Βιβλιοθήκης «Λίλιαν Βουδούρη» στο Μέγαρο Μουσικής Αθηνών (Βασιλίσσης Σοφίας & Κόκκαλη)\, Βασιλίσσης Σοφίας\, Αθήνα\, Ελλάδα
CATEGORIES:Συναυλίες
ATTACH;FMTTYPE=image/jpeg:https://karaviotismusic.gr/wp-content/uploads/2026/02/Σάββατο-21-Μαρτίου-20.00-scaled.jpg
END:VEVENT
END:VCALENDAR