BEGIN:VCALENDAR
VERSION:2.0
PRODID:-//Αδελφοί Καραβιώτη - ECPv6.0.12//NONSGML v1.0//EN
CALSCALE:GREGORIAN
METHOD:PUBLISH
X-WR-CALNAME:Αδελφοί Καραβιώτη
X-ORIGINAL-URL:https://karaviotismusic.gr
X-WR-CALDESC:Αδελφοί Καραβιώτη - Εκδηλώσεις
REFRESH-INTERVAL;VALUE=DURATION:PT1H
X-Robots-Tag:noindex
X-PUBLISHED-TTL:PT1H
BEGIN:VTIMEZONE
TZID:Europe/Athens
BEGIN:DAYLIGHT
TZOFFSETFROM:+0200
TZOFFSETTO:+0300
TZNAME:EEST
DTSTART:20250330T010000
END:DAYLIGHT
BEGIN:STANDARD
TZOFFSETFROM:+0300
TZOFFSETTO:+0200
TZNAME:EET
DTSTART:20251026T010000
END:STANDARD
END:VTIMEZONE
BEGIN:VEVENT
DTSTART;TZID=Europe/Athens:20250217T170000
DTEND;TZID=Europe/Athens:20250217T200000
DTSTAMP:20260424T073708
CREATED:20250214T012043Z
LAST-MODIFIED:20250214T021357Z
UID:1937-1739811600-1739822400@karaviotismusic.gr
SUMMARY:«Αποκριά στην παλιά Αθήνα»
DESCRIPTION:Τη Δευτέρα 17 Φεβρουαρίου 2025\, ώρα 17:00 & 20:00 στην Αίθουσα Διδασκαλίας της Μουσικής Βιβλιοθήκης «Λίλιαν Βουδούρη» στο Μέγαρο Μουσικής Αθηνών (Βασιλίσσης Σοφίας & Κόκκαλη)\, οι τροβαδούροι Σπύρος & Μάκης Καραβιώτης σας προσκαλούν σε ένα μοναδικό αφιέρωμα με θέμα: \n«Αποκριά στην παλιά Αθήνα» \n Οι κατεξοχήν εκπρόσωποι της ελληνικής καντάδας και του ερωτικού τραγουδιού\, αδελφοί Σπύρος & Μάκης Καραβιώτης γνωστοί μέσα από εμφανίσεις τους σε επίλεκτες πολιτιστικές εκπομπές της ελληνικής τηλεόρασης (Παρέα\, Αλάτι της Γης\, Στάση ΕΡΤ\, Έχει Γούστο) σας προσκαλούν σε ένα θεματικό μουσικό ταξίδι στις καντάδες του κρασιού\, του γλεντιού & της αποκριάς! \nΝοσταλγικές μελωδίες\, όπως: Στης Πλάκας της ανηφοριές\, Πιες γλυκό κρασί\, Η Παλιά ταβέρνα\, Ο Μπάρμπα-Γιάννης ο καντάτας\, Το γελεκάκι που φορείς\, Ακόμα ένα ποτηράκι\, Της Κολομπίνας το φιλί\, αλλά και τα ερωτικά Κελαηδήστε ωραία μου πουλάκια\, Απόψε την κιθάρα μου\, Για μας κελαηδούν τα πουλιά\, έρχονται να θυμίσουν στους παλαιότερους\, αλλά και να γνωρίσουν στους νεότερους το ιδιαίτερο κανταδόρικο ύφος των τραγουδιών της παλιάς Αθήνας ερμηνευμένο όμως\, μέσα από τις αισθαντικές φωνές των σύγχρονων τροβαδούρων\, αδελφών Καραβιώτη\, που προσεγγίζουν με απόλυτο σεβασμό και αγάπη το ερμηνευτικό ύφος και ήθος της εποχής εκείνης. \nΜαζί με τις κιθάρες των αδελφών Καραβιώτη θα συνηχήσουν τα γλυκά μαντολίνα των εξαίρετων μουσικών Νίκου Ρογκάκου και του Λάμπρου Ανυφαντή προσδίδοντας το απαραίτητο μουσικό ηχόχρωμα στην συναυλία και σε συνδυασμό με το κοντραμπάσο του Άγγελου Κουλούρη θα επιτευχθεί το υπέροχο άκουσμα της Μαντολινάτας. Επίσης\, στο πιάνο θα συνοδεύσει ορισμένα τραγούδια η πιανίστα Γιώτα Ζαπάντη\, ενώ θα συμμετάσχει η καλλίφωνη σοπράνο Σοφία Μουζάκη\, που θα  ταξιδέψει το κοινό σε αλλοτινές εποχές με την αισθαντική φωνή της. \nΤις ενορχηστρώσεις της συναυλίας και την ιστορική έρευνα υπογράφει ο μουσικολόγος και υποψήφιος διδάκτορας του τμήματος μουσικών σπουδών του Πανεπιστημίου Αθηνών\, Σπύρος Καραβιώτης. \nΔομή & διάρκεια συναυλίας: Η συναυλία αποτελείται από δύο μέρη συνολικής διάρκειας δύο ωρών με ενδιάμεσο διάλειμμα δέκα λεπτών. \nΤιμές:  \nΓενική είσοδος: 25 €. \nΔιακεκριμένη θέση: 30 €. \nΑγορά εισιτηρίων: \nhttps://www.ticketservices.gr/event/spyros-kai-makis-karaviotis-apokria-stin-palia-athina/ \n\nΟι θέσεις είναι αριθμημένες & θα λειτουργήσει ταξιθεσία\nΠαρακαλείσθε να προμηθευτείτε εγκαίρως τα εισιτήριά σας λόγω περιορισμένων θέσεων\n\nΤα αδέλφια Σπύρος & Μάκης Καραβιώτης κλείνουν φέτος 32 χρόνια διαρκούς παρουσίας στο ελληνικό τραγούδι υποστηρίζοντας με το καλλιτεχνικό τους ήθος την πεποίθηση «τραγουδάμε για να ενώσουμε τον κόσμο πιστεύοντας στη θεραπευτική δύναμη της καλής μουσικής». Η παρουσία σας θα δώσει ιδιαίτερη χαρά στην μουσική ομάδα των αδελφών Καραβιώτη και των αξιόλογων συνεργατών τους\, που προβάλουν με συνέπεια και σεβασμό το αθηναϊκό τραγούδι\, το οποίο αποτελεί ταυτοτικό σύμβολο των Αθηναίων\, αλλά και τμήμα των αστικών τραγουδιών της νεότερης ελληνικής παράδοσης. \n 
URL:https://karaviotismusic.gr/event/%ce%b1%cf%80%ce%bf%ce%ba%cf%81%ce%b9%ce%ac-%cf%83%cf%84%ce%b7%ce%bd-%cf%80%ce%b1%ce%bb%ce%b9%ce%ac-%ce%b1%ce%b8%ce%ae%ce%bd%ce%b1/
LOCATION:Αίθουσα Διδασκαλίας της Μουσικής Βιβλιοθήκης «Λίλιαν Βουδούρη» στο Μέγαρο Μουσικής Αθηνών (Βασιλίσσης Σοφίας & Κόκκαλη)\, Βασιλίσσης Σοφίας\, Αθήνα\, Ελλάδα
ATTACH;FMTTYPE=image/jpeg:https://karaviotismusic.gr/wp-content/uploads/2025/02/Αποκριά-στην-παλιά-Αθήνα-απογευματινή-scaled.jpg
END:VEVENT
END:VCALENDAR