BEGIN:VCALENDAR
VERSION:2.0
PRODID:-//Αδελφοί Καραβιώτη - ECPv6.0.12//NONSGML v1.0//EN
CALSCALE:GREGORIAN
METHOD:PUBLISH
X-ORIGINAL-URL:https://karaviotismusic.gr
X-WR-CALDESC:Αδελφοί Καραβιώτη - Εκδηλώσεις
REFRESH-INTERVAL;VALUE=DURATION:PT1H
X-Robots-Tag:noindex
X-PUBLISHED-TTL:PT1H
BEGIN:VTIMEZONE
TZID:Europe/Athens
BEGIN:DAYLIGHT
TZOFFSETFROM:+0200
TZOFFSETTO:+0300
TZNAME:EEST
DTSTART:20260329T010000
END:DAYLIGHT
BEGIN:STANDARD
TZOFFSETFROM:+0300
TZOFFSETTO:+0200
TZNAME:EET
DTSTART:20261025T010000
END:STANDARD
END:VTIMEZONE
BEGIN:VEVENT
DTSTART;TZID=Europe/Athens:20260418T180000
DTEND;TZID=Europe/Athens:20260418T200000
DTSTAMP:20260424T005458
CREATED:20260411T122316Z
LAST-MODIFIED:20260411T122316Z
UID:2181-1776535200-1776542400@karaviotismusic.gr
SUMMARY:ΠΑΣΧΑΛΙΝΕΣ ΚΑΝΤΑΔΕΣ ΣΤΟ ΜΕΓΑΡΟ
DESCRIPTION:ΠΑΣΧΑΛΙΝΕΣ ΚΑΝΤΑΔΕΣ ΣΤΟ ΜΕΓΑΡΟ\nΕτήσια Συναυλία Ελληνικής Καντάδας\nΜε την καλλιτεχνική υπογραφή των πρεσβευτών του είδους\, Σπύρου & Μάκη Καραβιώτη \nΣάββατο του Πάσχα\, 18 Απριλίου 2026\nΏρα 18:00 & 20:30\nΑίθουσα Διδασκαλίας – Μουσική Βιβλιοθήκη\nΜέγαρο Μουσικής Αθηνών \nΤο Σάββατο 18 Απριλίου 2026\, στις 18:00 & 20:30\, στην Αίθουσα Διδασκαλίας του Συλλόγου «Οι Φίλοι της Μουσικής»\, στο Μέγαρο Μουσικής Αθηνών (Βασιλίσσης Σοφίας & Κόκκαλη)\, οι τροβαδούροι Σπύρος και Μάκης Καραβιώτης συμπράττουν με εκλεκτούς καλλιτέχνες\, μουσικούς και λυρικούς τραγουδιστές\, εγκαινιάζοντας έναν νέο ετήσιο πασχαλινό θεσμό στην Αθήνα\, αφιερωμένο στην ελληνική καντάδα\, με τίτλο: \n«Πασχαλινές Καντάδες στο Μέγαρο» \nΠρόκειται για μια ξεχωριστή συναυλία ανδρικής χορωδίας λυρικών καλλιτεχνών με συνοδεία μαντολινάτας — ενός συνόλου νυκτών εγχόρδων με μαντολίνα\, μαντόλα\, κιθάρα και κοντραμπάσο — που αναβιώνει\, με υψηλή αισθητική\, το αυθεντικό ηχόχρωμα της αστικής επτανησιακής και αθηναϊκής παράδοσης. \nΛυρικοί τραγουδιστές — τενόροι\, βαρύτονοι και μπάσοι — πλαισιωμένοι από μαντολίνα και κιθάρες\, θα ερμηνεύσουν το «Χριστός Ανέστη»\, καντάδες\, αποσπάσματα οπερέτας\, βαρκαρόλες\, καθώς και ελαφρά τραγούδια νεότερων Ελλήνων συνθετών\, ειδικά διασκευασμένα για το συγκεκριμένο φωνητικό και οργανικό σύνολο. \nΗ διοργάνωση αποκτά επετειακό και τιμητικό χαρακτήρα\, καθώς κάθε χρόνο θα αφιερώνεται σε πρόσωπα και στιγμές που σφράγισαν την ιστορία της ελληνικής καντάδας\, συμβάλλοντας ουσιαστικά στη διατήρηση και τη μετάδοσή της στο σύγχρονο κοινό. \nΣτο πλαίσιο αυτό\, θα τιμηθεί ο διακεκριμένος βαρύτονος Λεωνίδας Αντύπας\, ο οποίος έχει διατελέσει μέλος σημαντικών επαγγελματικών χορωδιών και μουσικών συνόλων καντάδας\, προσφέροντας πολύτιμη συμβολή στη διατήρηση και τη συνέχεια της παράδοσης του είδους. \nΣημεία ιδιαίτερου ενδιαφέροντος της συναυλίας: \n\nΗ παράσταση παρουσιάζεται μία φορά τον χρόνο\, λόγω του μεγάλου αριθμού συμμετεχόντων καλλιτεχνών\, γεγονός που την καθιστά ένα σπάνιο μουσικό γεγονός.\nΤα έργα που ερμηνεύονται είναι απαιτητικά και σπάνια\, καθώς μπορούν να αποδοθούν αυθεντικά μόνο από ανδρική\, λυρική χορωδία με συνοδεία μαντολινάτας.\nΘα παρουσιαστούν οι εμβληματικές ενορχηστρώσεις των δασκάλων του είδους και αείμνηστων μαέστρων Φώτη Αλέπορου\, Διονύση Αποστολάτου και Νίκου Τσιλίφη\, καθώς και του ιστορικού μουσικολόγου Σπύρου Καραβιώτη\, αναβιώνοντας εκτελέσεις σημαντικής καλλιτεχνικής αξίας.\nΠρόκειται για ένα πρόγραμμα υψηλής αισθητικής και μεγάλης μουσικής ποικιλίας\, ικανό να συγκινήσει και να ενθουσιάσει ακόμη και το πιο απαιτητικό κοινό.\n\nΜια βραδιά μνήμης\, συγκίνησης και μουσικής συνέχειας\, που φιλοδοξεί να καθιερωθεί ως σταθερό πολιτιστικό γεγονός της πόλης κατά την περίοδο του Πάσχα. \nΔιάρκεια συναυλίας\n2 ώρες\, με ενδιάμεσο διάλειμμα 10 λεπτών \nΤιμές εισιτηρίων\n30€ | 25€ | 20€ \n\nΟι θέσεις είναι αριθμημένες και θα λειτουργήσει ταξιθεσία.\nΣυνιστάται η έγκαιρη προμήθεια εισιτηρίων λόγω περιορισμένου αριθμού θέσεων.\n\nΔιάθεση / Προπώληση εισιτηρίων\nTicket Services\nΠανεπιστημίου 39\, Στοά Πεσμαζόγλου\nΤηλ.: 210 7234567 \nΗ πρωτοβουλία αυτή φιλοδοξεί να εξελιχθεί σε έναν σταθερό πολιτιστικό θεσμό\, επαναφέροντας την ελληνική καντάδα στο σήμερα με σεβασμό\, αισθητική και ζωντανή καλλιτεχνική παρουσία.
URL:https://karaviotismusic.gr/event/%ce%ba%ce%b1%ce%bd%cf%84%ce%ac%ce%b4%ce%b5%cf%82-%cf%87%ce%bf%cf%81%cf%89%ce%b4%ce%af%ce%b1-%ce%bc%ce%b1%ce%bd%cf%84%ce%bf%ce%bb%ce%b9%ce%bd%ce%ac%cf%84%ce%b1-%ce%b1%ce%b4%ce%b5%ce%bb%cf%86/
LOCATION:Αίθουσα Διδασκαλίας της Μουσικής Βιβλιοθήκης «Λίλιαν Βουδούρη» στο Μέγαρο Μουσικής Αθηνών (Βασιλίσσης Σοφίας & Κόκκαλη)\, Βασιλίσσης Σοφίας\, Αθήνα\, Ελλάδα
CATEGORIES:Συναυλίες
ATTACH;FMTTYPE=image/jpeg:https://karaviotismusic.gr/wp-content/uploads/2026/04/poster_pasxa-2026-ΑΠΟΓΕΥΜΑΤΙΝΗ-scaled.jpg
END:VEVENT
END:VCALENDAR