BEGIN:VCALENDAR
VERSION:2.0
PRODID:-//Αδελφοί Καραβιώτη - ECPv6.0.12//NONSGML v1.0//EN
CALSCALE:GREGORIAN
METHOD:PUBLISH
X-ORIGINAL-URL:https://karaviotismusic.gr
X-WR-CALDESC:Αδελφοί Καραβιώτη - Εκδηλώσεις
REFRESH-INTERVAL;VALUE=DURATION:PT1H
X-Robots-Tag:noindex
X-PUBLISHED-TTL:PT1H
BEGIN:VTIMEZONE
TZID:Europe/Athens
BEGIN:DAYLIGHT
TZOFFSETFROM:+0200
TZOFFSETTO:+0300
TZNAME:EEST
DTSTART:20260329T010000
END:DAYLIGHT
BEGIN:STANDARD
TZOFFSETFROM:+0300
TZOFFSETTO:+0200
TZNAME:EET
DTSTART:20261025T010000
END:STANDARD
END:VTIMEZONE
BEGIN:VEVENT
DTSTART;TZID=Europe/Athens:20260207T200000
DTEND;TZID=Europe/Athens:20260207T220000
DTSTAMP:20260424T042022
CREATED:20260122T180318Z
LAST-MODIFIED:20260130T000808Z
UID:2017-1770494400-1770501600@karaviotismusic.gr
SUMMARY:«Η παλιά αθηναϊκή αποκριά»
DESCRIPTION:Το Σάββατο 7 Φεβρουαρίου 2026 & ώρα 17:30 (απογευματινή παράσταση) & 20:00 (βραδινή) στην Αίθουσα Διδασκαλίας της Μουσικής Βιβλιοθήκης «Λίλιαν Βουδούρη» στο Μέγαρο Μουσικής Αθηνών (Βασιλίσσης Σοφίας & Κόκκαλη)\, οι τροβαδούροι Σπύρος & Μάκης Καραβιώτης σας προσκαλούν σε ένα μοναδικό αφιέρωμα με θέμα: \n«Η παλιά αθηναϊκή αποκριά» \nΟι κατεξοχήν εκπρόσωποι της ελληνικής καντάδας και του ερωτικού τραγουδιού\, αδελφοί Σπύρος & Μάκης Καραβιώτης γνωστοί μέσα από τις εμφανίσεις τους σε επίλεκτες πολιτιστικές εκπομπές της ελληνικής τηλεόρασης (Παρέα\, Αλάτι της Γης\, Στάση ΕΡΤ\, Έχει Γούστο) σας προσκαλούν σε ένα θεματικό μουσικό ταξίδι στις καντάδες του κρασιού\, του γλεντιού & της αποκριάς! \nΝοσταλγικές μελωδίες\, όπως: Στης Πλάκας της ανηφοριές\, Πιες γλυκό κρασί\, Η Παλιά ταβέρνα\, Ο Μπάρμπα-Γιάννης ο καντάτας\, Το γελεκάκι που φορείς\, Ακόμα ένα ποτηράκι\, Της Κολομπίνας το φιλί\, έρχονται να θυμίσουν στους παλαιότερους\, αλλά και να γνωρίσουν στους νεότερους το ιδιαίτερο κανταδόρικο ύφος των τραγουδιών της παλιάς Αθήνας ερμηνευμένο όμως\, μέσα από τις αισθαντικές φωνές των σύγχρονων τροβαδούρων\, αδελφών Καραβιώτη\, που προσεγγίζουν με απόλυτο σεβασμό και αγάπη το ερμηνευτικό ύφος και ήθος της εποχής εκείνης. \nΜαζί με τις φωνές και τις κιθάρες των αδελφών Καραβιώτη θα συνηχήσουν τα γλυκά μαντολίνα των εξαίρετων μουσικών Γιάννη Ρίζου και του Λάμπρου Ανυφαντή προσδίδοντας στη συναυλία το απαραίτητο μουσικό ηχόχρωμα και σε συνδυασμό με το κοντραμπάσο του Άγγελου Κουλούρη θα επιτευχθεί το υπέροχο άκουσμα της Μαντολινάτας. \nΣτο πιάνο συνοδεύει ο Δημήτρης Ανδρονιάδης. \nΤις ενορχηστρώσεις της συναυλίας και την ιστορική έρευνα υπογράφει ο Σπύρος Καραβιώτης\, μουσικολόγος και υποψήφιος διδάκτορας του τμήματος μουσικών σπουδών του Πανεπιστημίου Αθηνών. \nΔομή & διάρκεια συναυλίας: Η συναυλία αποτελείται από δύο μέρη συνολικής διάρκειας δύο ωρών με ενδιάμεσο διάλειμμα δέκα λεπτών. \nΤιμές εισιτηρίων: 30€\, 25€\, 20€\, 15 €. \n\nΟι θέσεις είναι αριθμημένες & θα λειτουργήσει ταξιθεσία\nΠαρακαλείσθε να προμηθευτείτε εγκαίρως τα εισιτήριά σας λόγω περιορισμένων θέσεων\n\nhttps://www.ticketservices.gr/event/mmb-i-palia-athinaiki-apokria/ \nΤα αδέλφια Σπύρος & Μάκης Καραβιώτης κλείνουν φέτος 33 χρόνια διαρκούς παρουσίας στο ελληνικό τραγούδι υποστηρίζοντας με το καλλιτεχνικό τους ήθος την πεποίθηση «τραγουδάμε για να ενώσουμε τον κόσμο πιστεύοντας στη θεραπευτική δύναμη της καλής μουσικής». Η παρουσία σας θα δώσει ιδιαίτερη χαρά στη μουσική ομάδα των αδελφών Καραβιώτη και των αξιόλογων συνεργατών τους\, που προβάλλουν με συνέπεια και σεβασμό το αθηναϊκό τραγούδι\, το οποίο αποτελεί ταυτοτικό σύμβολο των Αθηναίων\, αλλά και τμήμα των αστικών τραγουδιών της νεότερης ελληνικής παράδοσης. \n 
URL:https://karaviotismusic.gr/event/%cf%80%ce%b1%ce%bb%ce%b9%ce%ac-%ce%b1%ce%b8%ce%b7%ce%bd%ce%b1%cf%8a%ce%ba%ce%ae-%ce%b1%cf%80%ce%bf%ce%ba%cf%81%ce%b9%ce%ac/
LOCATION:Αίθουσα Διδασκαλίας της Μουσικής Βιβλιοθήκης «Λίλιαν Βουδούρη» στο Μέγαρο Μουσικής Αθηνών (Βασιλίσσης Σοφίας & Κόκκαλη)\, Βασιλίσσης Σοφίας\, Αθήνα\, Ελλάδα
CATEGORIES:Συναυλία αθηναϊκής καντάδας,Συναυλίες
ATTACH;FMTTYPE=image/jpeg:https://karaviotismusic.gr/wp-content/uploads/2026/01/Αποκριά-στην-παλιά-Αθήνα_poster-scaled.jpg
END:VEVENT
END:VCALENDAR