BEGIN:VCALENDAR
VERSION:2.0
PRODID:-//Αδελφοί Καραβιώτη - ECPv6.0.12//NONSGML v1.0//EN
CALSCALE:GREGORIAN
METHOD:PUBLISH
X-WR-CALNAME:Αδελφοί Καραβιώτη
X-ORIGINAL-URL:https://karaviotismusic.gr
X-WR-CALDESC:Αδελφοί Καραβιώτη - Εκδηλώσεις
REFRESH-INTERVAL;VALUE=DURATION:PT1H
X-Robots-Tag:noindex
X-PUBLISHED-TTL:PT1H
BEGIN:VTIMEZONE
TZID:Europe/Athens
BEGIN:DAYLIGHT
TZOFFSETFROM:+0200
TZOFFSETTO:+0300
TZNAME:EEST
DTSTART:20250330T010000
END:DAYLIGHT
BEGIN:STANDARD
TZOFFSETFROM:+0300
TZOFFSETTO:+0200
TZNAME:EET
DTSTART:20251026T010000
END:STANDARD
END:VTIMEZONE
BEGIN:VEVENT
DTSTART;TZID=Europe/Athens:20251220T200000
DTEND;TZID=Europe/Athens:20251220T235900
DTSTAMP:20260424T073151
CREATED:20251128T212922Z
LAST-MODIFIED:20260123T004302Z
UID:2005-1766260800-1766275140@karaviotismusic.gr
SUMMARY:Gala Χριστουγέννων 2025
DESCRIPTION:Gala Χριστουγέννων 2025 \n                                            \nΠεριγραφή εκδήλωσης \n  \nΟι διακεκριμένοι ερμηνευτές Σπύρος & Μάκης Καραβιώτης σας προσκαλούν το Σάββατο 20 Δεκεμβρίου 2025 & ώρα 20:00 σε μια ξεχωριστή Χριστουγεννιάτικη εκδήλωση στο Ballroom του πολυτελούς ξενοδοχείου Electra Palace ***** (Ναυάρχου Νικοδήμου 18 – 20\, Πλάκα). \n  \nΠρόκειται για μια εορταστική συνεστίαση με πλούσιο καλλιτεχνικό πρόγραμμα\, μουσικό & χορευτικό\, σε έναν από τους ομορφότερους χώρους της Αθήνας\, που διακρίνεται για την υψηλή του αισθητική. Στην εκδήλωση θα σερβιριστεί menu\, το οποίο περιγράφεται κατωτέρω. \n  \nΜουσικό πρόγραμμα \n  \nΕκτός από τους δημοφιλείς αδελφούς Καραβιώτη  θα απολαύσετε την εκλεκτή εξαμελή ορχήστρα τους\, που θα σας ταξιδέψει σε υπέροχες Χριστουγεννιάτικες μελωδίες και όχι μόνο. \nΤο πρόγραμμα θα ικανοποιήσει όλα τα γούστα αφού θα περιλαμβάνει κάλαντα\, χριστουγεννιάτικα τραγούδια\, ελληνικές & διεθνείς επιτυχίες\, καθώς και πλούσιο χορευτικό πρόγραμμα με ρυθμούς ευρωπαϊκούς\, λάτιν και ντίσκο\, αλλά και ωραίο ελληνικό γλέντι. Στο τέλος του προγράμματος θα ερμηνευθούν τραγούδια αγάπης\, ταιριασμένα στο πνεύμα των Χριστουγέννων\, συμβάλλοντας στην κορύφωση της γιορτής. \n  \nMenu \n  \n(ειδική φροντίδα του προέδρου του ομίλου Electra Hotels & Resorts κου Γεράσιμου Φωκά στους αδελφούς Καραβιώτη για την εκδήλωση) \n  \nΓια κάθε τραπέζι πιατέλα των 8-10 ατόμων με: \n  \nΦρεσκοψημένα ψωμάκια 3 ειδών και κριτσίνια \nΜελιτζανοσαλάτα / κοπανιστή με γαλοτύρι/  σαλάτα κηπουρού \nΝτοματίνια με μοτσαρελίνια \n  \n*** \nΓια κάθε καλεσμένο πιάτο με: \nΤυροπιτάρι \nΜπιφτεκάκι μόσχου \nΠατάτες baby φούρνου \nΚολοκυθοκεφτές \nΚρέπα με ζαμπόν και τυρί \nΡολό κοτόπουλο γεμιστό με μπέικον και κασέρι \n  \n*** \nΑτομικό γλυκό: \n  \nΠορτοκαλοπιτα με λευκή σοκολάτα \n  \nΠΑΚΕΤΟ ΠΟΤΩΝ \nΛευκό κρασί “NOTOS” Κτήμα Κανακάρης (Ροδίτης) \nΕρυθρό κρασί “NOTOS” Κτήμα Κανακάρης (Merlot-Μαυρούδι) \nΕμφιαλωμένο νερό \n  \nΤο προσωπικό του ξενοδοχείου είναι πρόθυμο να ικανοποιήσει\, από τον πλούσιο κατάλογό του\, κάθε επί πλέον ανάγκη σας σε περίπτωση που επιθυμήσετε οτιδήποτε άλλο\, εκτός του προσφερόμενου menu της εκδήλωσης. \nΔιάρκεια εκδήλωσης \nΗ συνολική διάρκεια της εκδήλωσης θα είναι 4 ώρες (20:00 – 00:00). \nΔιάταξη Αίθουσας \nΟι συμμετέχοντες στην εκδήλωση θα καθίσουν σε ροτόντες (κυκλική διάταξη) των 10 ή των 12 ατόμων\, ανά συντροφιές\, φροντίδα του maître d’hôtel. \nΓενική είσοδος: 60€  \nΤονίζεται ότι οι θέσεις που προαγοράζονται δεν είναι αριθμημένες και δεν αντιστοιχούν σε συγκεκριμένους αριθμούς στις ροτόντες του Ballroom. Ισχύει μόνο η προτεραιότητα του χρόνου προαγοράς των θέσεων. \nΗ τακτοποίηση των συμμετεχόντων στις θέσεις θα γίνεται ονομαστικά από το προσωπικό του ξενοδοχείου\, κατά την είσοδο στο Ballroom\, σύμφωνα με το όνομα που έχει δηλωθεί κατά την αγορά του εισιτηρίου. \n  \nΔιάθεση – Προπώληση εισιτηρίων \n\nticket services: Πανεπιστημίου 39\,\n\nΣτοά Πεσμαζόγλου\, τηλ.: 210-72 34 567 \n\nστην είσοδο του Ballroom 1 ώρα πριν την έναρξη της εκδήλωσης εφόσον υπάρχουν διαθέσιμα εισιτήρια.\n\nΣας υποσχόμαστε μια ξεχωριστή εκδήλωση που θα δώσει ιδιαίτερο τόνο στα φετινά σας Χριστούγεννα. \nΘα χαρούμε να σας έχουμε κοντά μας\, \nΣπύρος & Γεράσιμος Καραβιώτης \n 
URL:https://karaviotismusic.gr/event/gala-%cf%87%cf%81%ce%b9%cf%83%cf%84%ce%bf%cf%85%ce%b3%ce%ad%ce%bd%ce%bd%cf%89%ce%bd-2025/
LOCATION:Electra Palace\, Ναυάρχου Νικοδήμου 18 – 20\, Πλάκα\, Αθήνα\, Αττική\, Ελλάδα
CATEGORIES:Αρχείο εκδηλώσεων
ATTACH;FMTTYPE=image/jpeg:https://karaviotismusic.gr/wp-content/uploads/2025/11/poster_gala_2025-scaled.jpg
END:VEVENT
END:VCALENDAR