BEGIN:VCALENDAR
VERSION:2.0
PRODID:-//Αδελφοί Καραβιώτη - ECPv6.0.12//NONSGML v1.0//EN
CALSCALE:GREGORIAN
METHOD:PUBLISH
X-WR-CALNAME:Αδελφοί Καραβιώτη
X-ORIGINAL-URL:https://karaviotismusic.gr
X-WR-CALDESC:Αδελφοί Καραβιώτη - Εκδηλώσεις
REFRESH-INTERVAL;VALUE=DURATION:PT1H
X-Robots-Tag:noindex
X-PUBLISHED-TTL:PT1H
BEGIN:VTIMEZONE
TZID:Europe/Athens
BEGIN:DAYLIGHT
TZOFFSETFROM:+0200
TZOFFSETTO:+0300
TZNAME:EEST
DTSTART:20250330T010000
END:DAYLIGHT
BEGIN:STANDARD
TZOFFSETFROM:+0300
TZOFFSETTO:+0200
TZNAME:EET
DTSTART:20251026T010000
END:STANDARD
END:VTIMEZONE
BEGIN:VEVENT
DTSTART;TZID=Europe/Athens:20251018T170000
DTEND;TZID=Europe/Athens:20251018T200000
DTSTAMP:20260424T104100
CREATED:20251001T214522Z
LAST-MODIFIED:20260123T004204Z
UID:1955-1760806800-1760817600@karaviotismusic.gr
SUMMARY:«Οι Χρυσές Επιτυχίες – Αφιέρωμα στους Χατζηνάσιο\, Σπανό & Ιγνατιάδη»
DESCRIPTION:ΔΕΛΤΙΟ ΤΥΠΟΥ \nΧατζηνάσιος – Σπανός – Ιγνατιάδης: «Οι Χρυσές Επιτυχίες» \nΜέγαρο Μουσικής Αθηνών \nΣάββατο 18 Οκτωβρίου\, 17:00 & 20:00 \nΜουσική Βιβλιοθήκη «Λίλιαν Βουδούρη» – Αίθουσα Διδασκαλίας \nΕίμαστε ο Σπύρος & Μάκης Καραβιώτη και παρουσιάζουμε μια ξεχωριστή μουσική βραδιά στο Μέγαρο Μουσικής Αθηνών (Μουσική Βιβλιοθήκη)\, αφιερωμένη στους μεγάλους Έλληνες συνθέτες. Το αφιέρωμα “Οι Χρυσές Επιτυχίες” φέρνει στη σκηνή τραγούδια των Χατζηνάσιου\, Σπανού & Ιγνατιάδη\, με τη συμμετοχή της Σοφίας Μιχαηλίδου. \nΘα ερμηνεύσουμε διαχρονικές επιτυχίες όπως: \n\nΑπό τον Γιώργο Χατζηνάσιο: Άγγιγμα Ψυχής\, Άνοιξε το παράθυρο\, Ποιος να συγκριθεί μαζί σου\nΑπό τον Γιάννη Σπανό: Επειδή σ’ αγαπώ\, Θα με θυμηθείς\, Οδός Αριστοτέλους\nΑπό τον Νίκο Ιγνατιάδη: Κόκκινο γαρύφαλλο\, Φωτιά στα σύνορα της γης\, Μόνο αγάπη\n\nΣτη συναυλία θα παραστεί και ο σπουδαίος συνθέτης Γιώργος Χατζηνάσιος\, τιμώντας με την παρουσία του το αφιέρωμα. \nΘα παίξουν οι μουσικοί: \n\nΔημήτρης Ανδρονιάδης – πιάνο\nΧρήστος Κεχρής – μπάσο\nΝίκος Αθανασιάδης – τύμπανα\n\nΤις ενορχηστρώσεις της συναυλίας και την ιστορική έρευνα υπογράφει ο μουσικολόγος και υποψήφιος διδάκτορας του τμήματος μουσικών σπουδών του Πανεπιστημίου Αθηνών\, Σπύρος Καραβιώτης. \nΠληροφορίες \n\nΕισιτήρια: 15 €\, 20€\, 25€ | Διακεκριμένη ζώνη: 30 €\nΠροπώληση: Ticketservices\nΤηλέφωνο επικοινωνίας: 210 72 34 567\nhttps://www.ticketservices.gr/event/afoi-karavioti-oi-xrises-epitixies/\n\n\n🎟️ Αγορά Εισιτηρίου – Παράσταση 17:00\n\n🎟️ Αγορά Εισιτηρίου – Παράσταση 20:00\n \n\nΣας περιμένουμε σε μια μουσική βραδιά που δεν θα είναι απλώς μια συναυλία\, αλλά μια γιορτή καλού ελληνικού τραγουδιού και αγάπης∙ μια ευκαιρία να ξανασυναντηθούμε με τις μελωδίες που σφράγισαν μια ολόκληρη εποχή και να τις μοιραστούμε ξανά\, ζωντανά\, στη σκηνή.
URL:https://karaviotismusic.gr/event/adelfoi-karavioti-xatzinasios-spanos-ignatiadis-2025/
LOCATION:Αίθουσα Διδασκαλίας της Μουσικής Βιβλιοθήκης «Λίλιαν Βουδούρη» στο Μέγαρο Μουσικής Αθηνών (Βασιλίσσης Σοφίας & Κόκκαλη)\, Βασιλίσσης Σοφίας\, Αθήνα\, Ελλάδα
CATEGORIES:Αρχείο εκδηλώσεων
ATTACH;FMTTYPE=image/jpeg:https://karaviotismusic.gr/wp-content/uploads/2025/10/Αφίσα-τελική-scaled.jpg
END:VEVENT
END:VCALENDAR